BEGIN:VCALENDAR
VERSION:2.0
PRODID:-//Squarespace Inc/Squarespace 6//v6//EN
BEGIN:VEVENT
UID:5f5ef5849e32a319f55de1f1@squarespace.com
DTSTAMP:20200914T044610Z
DTSTART:20201028T063000Z
DTEND:20201028T073000Z
SUMMARY:Zoom swimnastics session (5.30pm on Wednesday 28th October)
END:VEVENT
END:VCALENDAR
