BEGIN:VCALENDAR
VERSION:2.0
PRODID:-//Squarespace Inc/Squarespace 6//v6//EN
BEGIN:VEVENT
UID:5f0d12e9aa6bc41509f3ebbe@squarespace.com
DTSTAMP:20200714T020541Z
DTSTART:20200826T073000Z
DTEND:20200826T083000Z
SUMMARY:Zoom swimnastics session (5.30pm on Wednesday 26th August)
END:VEVENT
END:VCALENDAR
