BEGIN:VCALENDAR
VERSION:2.0
PRODID:-//Squarespace Inc/Squarespace 6//v6//EN
BEGIN:VEVENT
UID:5f0d11f69aba841612891b58@squarespace.com
DTSTAMP:20200714T020134Z
DTSTART:20200819T073000Z
DTEND:20200819T083000Z
SUMMARY:Zoom swimnastics session (5.30pm on Wednesday 19th August)
END:VEVENT
END:VCALENDAR
