BEGIN:VCALENDAR
VERSION:2.0
PRODID:-//Squarespace Inc/Squarespace 6//v6//EN
BEGIN:VEVENT
UID:5f0d119a4536046d9c6eae4e@squarespace.com
DTSTAMP:20200714T020002Z
DTSTART:20200812T073000Z
DTEND:20200812T083000Z
SUMMARY:Zoom swimnastics session (5.30pm on Wednesday 12th August)
END:VEVENT
END:VCALENDAR
