BEGIN:VCALENDAR
VERSION:2.0
PRODID:-//Squarespace Inc/Squarespace 6//v6//EN
BEGIN:VEVENT
UID:5f0d1141bfa4f919d024925a@squarespace.com
DTSTAMP:20200714T015836Z
DTSTART:20200805T073000Z
DTEND:20200805T083000Z
SUMMARY:Zoom swimnastics session (5.30pm on Wednesday 5th August)
END:VEVENT
END:VCALENDAR
