BEGIN:VCALENDAR
VERSION:2.0
PRODID:-//Squarespace Inc/Squarespace 6//v6//EN
BEGIN:VEVENT
UID:5f03f377c6763420089f0115@squarespace.com
DTSTAMP:20200707T040108Z
DTSTART:20200729T073000Z
DTEND:20200729T083000Z
SUMMARY:Zoom swimnastics session (5.30pm on Wednesday 29th July)
END:VEVENT
END:VCALENDAR
