BEGIN:VCALENDAR
VERSION:2.0
PRODID:-//Squarespace Inc/Squarespace 6//v6//EN
BEGIN:VEVENT
UID:5f85285e15f15d24357de5d6@squarespace.com
DTSTAMP:20201013T040920Z
DTSTART:20201202T063000Z
DTEND:20201202T073000Z
SUMMARY:Zoom swimnastics session (5.30pm on Wednesday 2nd December)
END:VEVENT
END:VCALENDAR
