BEGIN:VCALENDAR
VERSION:2.0
PRODID:-//Squarespace Inc/Squarespace 6//v6//EN
BEGIN:VEVENT
UID:5f309cecf53bbe5ccc9f564c@squarespace.com
DTSTAMP:20200810T010353Z
DTSTART:20200902T073000Z
DTEND:20200902T083000Z
SUMMARY:Zoom swimnastics session (5.30pm on Wednesday 2nd September
END:VEVENT
END:VCALENDAR
