BEGIN:VCALENDAR
VERSION:2.0
PRODID:-//Squarespace Inc/Squarespace 6//v6//EN
BEGIN:VEVENT
UID:5f5ef360a3738d07d526789e@squarespace.com
DTSTAMP:20200914T043702Z
DTSTART:20200930T073000Z
DTEND:20200930T083000Z
SUMMARY:Zoom swimnastics session (5.30pm on Wednesday 30th September)
END:VEVENT
END:VCALENDAR
