BEGIN:VCALENDAR
VERSION:2.0
PRODID:-//Squarespace Inc/Squarespace 6//v6//EN
BEGIN:VEVENT
UID:5f5ef3c982f5d20704c19ccf@squarespace.com
DTSTAMP:20200914T043851Z
DTSTART:20201002T230000Z
DTEND:20201003T000000Z
SUMMARY:Zoom swimnastics session (9.00am on Saturday 3rd October)
END:VEVENT
END:VCALENDAR
