BEGIN:VCALENDAR
VERSION:2.0
PRODID:-//Squarespace Inc/Squarespace 6//v6//EN
BEGIN:VEVENT
UID:5ecb09fdb6e5372e0e0db893@squarespace.com
DTSTAMP:20200524T235821Z
DTSTART:20200603T073000Z
DTEND:20200603T083000Z
SUMMARY:Zoom swimnastics session (5.30pm on Wednesday 3rd June)
END:VEVENT
END:VCALENDAR
