BEGIN:VCALENDAR
VERSION:2.0
PRODID:-//Squarespace Inc/Squarespace 6//v6//EN
BEGIN:VEVENT
UID:5f8529699ef96248f77a4c72@squarespace.com
DTSTAMP:20201013T041355Z
DTSTART:20201204T220000Z
DTEND:20201204T230000Z
SUMMARY:Zoom swimnastics session (9.00am on Saturday 5th December)
END:VEVENT
END:VCALENDAR
