BEGIN:VCALENDAR
VERSION:2.0
PRODID:-//Squarespace Inc/Squarespace 6//v6//EN
BEGIN:VEVENT
UID:5f309d1a701690209e3cb238@squarespace.com
DTSTAMP:20200810T010441Z
DTSTART:20200904T230000Z
DTEND:20200905T000000Z
SUMMARY:Zoom swimnastics session (9.00am on Saturday 5th September)
END:VEVENT
END:VCALENDAR
