BEGIN:VCALENDAR
VERSION:2.0
PRODID:-//Squarespace Inc/Squarespace 6//v6//EN
BEGIN:VEVENT
UID:6021f0607075cc6a3e2d7ab1@squarespace.com
DTSTAMP:20210210T022148Z
DTSTART:20210221T053000Z
DTEND:20210221T064500Z
SUMMARY:6 week nationals prep
END:VEVENT
END:VCALENDAR
