BEGIN:VCALENDAR
VERSION:2.0
PRODID:-//Squarespace Inc/Squarespace 6//v6//EN
BEGIN:VEVENT
UID:5f84e54aae879c7bde555731@squarespace.com
DTSTAMP:20201013T035352Z
DTSTART:20201106T220000Z
DTEND:20201106T230000Z
SUMMARY:Zoom swimnastics session (9.00am on Saturday 7th November)
END:VEVENT
END:VCALENDAR
