BEGIN:VCALENDAR
VERSION:2.0
PRODID:-//Squarespace Inc/Squarespace 6//v6//EN
BEGIN:VEVENT
UID:5f5ef4126ff2a57e926fd938@squarespace.com
DTSTAMP:20200914T044003Z
DTSTART:20201007T063000Z
DTEND:20201007T073000Z
SUMMARY:Zoom swimnastics session (5.30pm on Wednesday 7th October)
END:VEVENT
END:VCALENDAR
