BEGIN:VCALENDAR
VERSION:2.0
PRODID:-//Squarespace Inc/Squarespace 6//v6//EN
BEGIN:VEVENT
UID:5ef14f2deade2b25c63cbe43@squarespace.com
DTSTAMP:20200703T082945Z
DTSTART:20200708T073000Z
DTEND:20200708T083000Z
SUMMARY:Zoom swimnastics session (5.30pm on Wednesday 8th July)
END:VEVENT
END:VCALENDAR
