BEGIN:VCALENDAR
VERSION:2.0
PRODID:-//Squarespace Inc/Squarespace 6//v6//EN
BEGIN:VEVENT
UID:5f852bde8274f45959e47d18@squarespace.com
DTSTAMP:20201013T042411Z
DTSTART:20201209T063000Z
DTEND:20201209T073000Z
SUMMARY:Zoom swimnastics session (5.30pm on Wednesday 9th December)
END:VEVENT
END:VCALENDAR
