BEGIN:VCALENDAR
VERSION:2.0
PRODID:-//Squarespace Inc/Squarespace 6//v6//EN
BEGIN:VEVENT
UID:5f309d76649257471c69b301@squarespace.com
DTSTAMP:20200810T010612Z
DTSTART:20200909T073000Z
DTEND:20200909T083000Z
SUMMARY:Zoom swimnastics session (5.30pm on Wednesday 9th September)
END:VEVENT
END:VCALENDAR
