BEGIN:VCALENDAR
VERSION:2.0
PRODID:-//Squarespace Inc/Squarespace 6//v6//EN
BEGIN:VEVENT
UID:5d6c618941111900012cd714@squarespace.com
DTSTAMP:20190902T004050Z
DTSTART:20190921T054500Z
DTEND:20190921T070000Z
SUMMARY:asctaVIC Professional Development Conference
GEO:-37.843141;144.961508
LOCATION:melbourne sports aquatic centre\, 30 Aughtie Dr\, Albert Park\, VI
 C\, Australia
END:VEVENT
END:VCALENDAR
