BEGIN:VCALENDAR
VERSION:2.0
PRODID:-//Squarespace Inc/Squarespace 6//v6//EN
BEGIN:VEVENT
UID:5da7df29e101e50a4357bcd2@squarespace.com
DTSTAMP:20191107T235912Z
DTSTART:20191201T020000Z
DTEND:20191201T030000Z
SUMMARY:sunday swimnastics (1st December)
GEO:-37.823176;145.046538
LOCATION:crossfit hawthor east\, 9 Montrose Street\, Hawthorn East\, Austra
 lia
END:VEVENT
END:VCALENDAR
