BEGIN:VCALENDAR
VERSION:2.0
PRODID:-//Squarespace Inc/Squarespace 6//v6//EN
BEGIN:VEVENT
UID:5cff05d28700be0001c51a45@squarespace.com
DTSTAMP:20190611T013857Z
DTSTART:20190818T023000Z
DTEND:20190818T040000Z
SUMMARY:swimnastics for masters swimmers (Sunday 18th August)
GEO:-37.823176;145.046538
LOCATION:crossfit hawthorn east\, 9 Montrose St\, Hawthorn East VIC 3123\, 
 Hawthorn East\, Aust
END:VEVENT
END:VCALENDAR
