BEGIN:VCALENDAR
VERSION:2.0
PRODID:-//Squarespace Inc/Squarespace 6//v6//EN
BEGIN:VEVENT
UID:5cff033db1a11f000103d873@squarespace.com
DTSTAMP:20190611T013840Z
DTSTART:20190721T023000Z
DTEND:20190721T040000Z
SUMMARY:swimnastics for masters swimmers (Sunday 21st July)
GEO:-37.823176;145.046538
LOCATION:crossfit hawthorn east\, 9 Montrose St\, Hawthorn East VIC 3123\, 
 Hawthorn East\, Aust
END:VEVENT
END:VCALENDAR
