BEGIN:VCALENDAR
VERSION:2.0
PRODID:-//Squarespace Inc/Squarespace 6//v6//EN
BEGIN:VEVENT
UID:5f782f94fffe982430acaf19@squarespace.com
DTSTAMP:20201003T080036Z
DTSTART:20201009T233000Z
DTEND:20201010T001500Z
SUMMARY:mobility and meditation (10th October at 10.30am)
END:VEVENT
END:VCALENDAR
