BEGIN:VCALENDAR
VERSION:2.0
PRODID:-//Squarespace Inc/Squarespace 6//v6//EN
BEGIN:VEVENT
UID:5f852c5f1e9bd37303ccf4f6@squarespace.com
DTSTAMP:20201013T042635Z
DTSTART:20201211T233000Z
DTEND:20201212T001500Z
SUMMARY:mobility and meditation (12th December at 10.30am)
END:VEVENT
END:VCALENDAR
