BEGIN:VCALENDAR
VERSION:2.0
PRODID:-//Squarespace Inc/Squarespace 6//v6//EN
BEGIN:VEVENT
UID:5f5573ee0d0691773f1f9107@squarespace.com
DTSTAMP:20200906T234257Z
DTSTART:20200912T003000Z
DTEND:20200912T011500Z
SUMMARY:mobility and meditation (12th September at 10.30am)
END:VEVENT
END:VCALENDAR
