BEGIN:VCALENDAR
VERSION:2.0
PRODID:-//Squarespace Inc/Squarespace 6//v6//EN
BEGIN:VEVENT
UID:5f8525d45008547ec4b8f33e@squarespace.com
DTSTAMP:20201013T035829Z
DTSTART:20201113T233000Z
DTEND:20201114T001500Z
SUMMARY:mobility and meditation (14th November at 10.30am)
END:VEVENT
END:VCALENDAR
