BEGIN:VCALENDAR
VERSION:2.0
PRODID:-//Squarespace Inc/Squarespace 6//v6//EN
BEGIN:VEVENT
UID:5f2b2b1bf627813254f7fd37@squarespace.com
DTSTAMP:20200805T215700Z
DTSTART:20200815T003000Z
DTEND:20200815T011500Z
SUMMARY:mobility and meditation (15th August at 10.30am)
END:VEVENT
END:VCALENDAR
