BEGIN:VCALENDAR
VERSION:2.0
PRODID:-//Squarespace Inc/Squarespace 6//v6//EN
BEGIN:VEVENT
UID:5f8117ebf3d79504e70443e4@squarespace.com
DTSTAMP:20201010T021003Z
DTSTART:20201016T233000Z
DTEND:20201017T001500Z
SUMMARY:mobility and meditation (17th October at 10.30am)
END:VEVENT
END:VCALENDAR
