BEGIN:VCALENDAR
VERSION:2.0
PRODID:-//Squarespace Inc/Squarespace 6//v6//EN
BEGIN:VEVENT
UID:5f852d295008547ec4b9c0f8@squarespace.com
DTSTAMP:20201013T042947Z
DTSTART:20201218T233000Z
DTEND:20201219T001500Z
SUMMARY:mobility and meditation (19th December at 10.30am)
END:VEVENT
END:VCALENDAR
