BEGIN:VCALENDAR
VERSION:2.0
PRODID:-//Squarespace Inc/Squarespace 6//v6//EN
BEGIN:VEVENT
UID:5f55740900d4e20f38e6097b@squarespace.com
DTSTAMP:20200906T234319Z
DTSTART:20200919T003000Z
DTEND:20200919T011500Z
SUMMARY:mobility and meditation (19th September at 10.30am)
END:VEVENT
END:VCALENDAR
