BEGIN:VCALENDAR
VERSION:2.0
PRODID:-//Squarespace Inc/Squarespace 6//v6//EN
BEGIN:VEVENT
UID:5f85268eb5d7c911fbba88c5@squarespace.com
DTSTAMP:20201013T040138Z
DTSTART:20201120T233000Z
DTEND:20201121T001500Z
SUMMARY:mobility and meditation (21st November at 10.30am)
END:VEVENT
END:VCALENDAR
