BEGIN:VCALENDAR
VERSION:2.0
PRODID:-//Squarespace Inc/Squarespace 6//v6//EN
BEGIN:VEVENT
UID:5f2b2b3431641f5e0b7726e7@squarespace.com
DTSTAMP:20200805T215723Z
DTSTART:20200822T003000Z
DTEND:20200822T011500Z
SUMMARY:mobility and meditation (22nd August at 10.30am)
END:VEVENT
END:VCALENDAR
