BEGIN:VCALENDAR
VERSION:2.0
PRODID:-//Squarespace Inc/Squarespace 6//v6//EN
BEGIN:VEVENT
UID:5f8118046902e96ff66d84bf@squarespace.com
DTSTAMP:20201010T021027Z
DTSTART:20201023T233000Z
DTEND:20201024T001500Z
SUMMARY:mobility and meditation (24th October at 10.30am)
END:VEVENT
END:VCALENDAR
