BEGIN:VCALENDAR
VERSION:2.0
PRODID:-//Squarespace Inc/Squarespace 6//v6//EN
BEGIN:VEVENT
UID:5f557422d4f2f0293660c9e0@squarespace.com
DTSTAMP:20200924T053045Z
DTSTART:20200926T003000Z
DTEND:20200926T011500Z
SUMMARY:mobility and meditation (26th September at 10.30am)
END:VEVENT
END:VCALENDAR
