BEGIN:VCALENDAR
VERSION:2.0
PRODID:-//Squarespace Inc/Squarespace 6//v6//EN
BEGIN:VEVENT
UID:5f8527fcd38c0032043f2c70@squarespace.com
DTSTAMP:20201013T040738Z
DTSTART:20201127T233000Z
DTEND:20201128T001500Z
SUMMARY:mobility and meditation (28th November at 10.30am)
END:VEVENT
END:VCALENDAR
