BEGIN:VCALENDAR
VERSION:2.0
PRODID:-//Squarespace Inc/Squarespace 6//v6//EN
BEGIN:VEVENT
UID:5f6c2f138d709c0c81876221@squarespace.com
DTSTAMP:20200924T053118Z
DTSTART:20201003T003000Z
DTEND:20201003T011500Z
SUMMARY:mobility and meditation (3rd October at 10.30am)
END:VEVENT
END:VCALENDAR
