BEGIN:VCALENDAR
VERSION:2.0
PRODID:-//Squarespace Inc/Squarespace 6//v6//EN
BEGIN:VEVENT
UID:5f852b9b82825a46f7266ae8@squarespace.com
DTSTAMP:20201013T042308Z
DTSTART:20201204T233000Z
DTEND:20201205T001500Z
SUMMARY:mobility and meditation (5th December at 10.30am)
END:VEVENT
END:VCALENDAR
