BEGIN:VCALENDAR
VERSION:2.0
PRODID:-//Squarespace Inc/Squarespace 6//v6//EN
BEGIN:VEVENT
UID:5f4de1ffa82f1a123aa7fff8@squarespace.com
DTSTAMP:20200901T055425Z
DTSTART:20200905T003000Z
DTEND:20200905T011500Z
SUMMARY:mobility and meditation (5th September at 10.30am)
END:VEVENT
END:VCALENDAR
