BEGIN:VCALENDAR
VERSION:2.0
PRODID:-//Squarespace Inc/Squarespace 6//v6//EN
BEGIN:VEVENT
UID:5f8524db0ffcdb72c2f91e08@squarespace.com
DTSTAMP:20201013T035421Z
DTSTART:20201106T233000Z
DTEND:20201107T001500Z
SUMMARY:mobility and meditation (7th November at 10.30am)
END:VEVENT
END:VCALENDAR
