BEGIN:VCALENDAR
VERSION:2.0
PRODID:-//Squarespace Inc/Squarespace 6//v6//EN
BEGIN:VEVENT
UID:5f2507985cde9072ff49b305@squarespace.com
DTSTAMP:20200801T061207Z
DTSTART:20200808T003000Z
DTEND:20200808T011500Z
SUMMARY:mobility and meditation (8th August at 10.30am)
END:VEVENT
END:VCALENDAR
