BEGIN:VCALENDAR
VERSION:2.0
PRODID:-//Squarespace Inc/Squarespace 6//v6//EN
BEGIN:VEVENT
UID:5f1e25377fbac53ab41419a6@squarespace.com
DTSTAMP:20200801T061136Z
DTSTART:20200801T003000Z
DTEND:20200801T011500Z
SUMMARY:mobility and meditation (1st August at 10.30am)
END:VEVENT
END:VCALENDAR
