BEGIN:VCALENDAR
VERSION:2.0
PRODID:-//Squarespace Inc/Squarespace 6//v6//EN
BEGIN:VEVENT
UID:5d7eddc7478b13088d87957c@squarespace.com
DTSTAMP:20191019T214326Z
DTSTART:20191020T020000Z
DTEND:20191020T030000Z
SUMMARY:sunday swimnastics (20th October)
GEO:-37.823176;145.046538
LOCATION:crossfit hawthor east\, 9 Montrose Street\, Hawthorn East\, Austra
 lia
END:VEVENT
END:VCALENDAR
