BEGIN:VCALENDAR
VERSION:2.0
PRODID:-//Squarespace Inc/Squarespace 6//v6//EN
BEGIN:VEVENT
UID:5d757cc45210ec699e42f004@squarespace.com
DTSTAMP:20190916T005639Z
DTSTART:20190915T023000Z
DTEND:20190915T040000Z
SUMMARY:sunday swimnastics (15th September)
GEO:-37.823176;145.046538
LOCATION:crossfit hawthor east\, 9 Montrose Street\, Hawthorn East\, Austra
 lia
END:VEVENT
END:VCALENDAR
