BEGIN:VCALENDAR
VERSION:2.0
PRODID:-//Squarespace Inc/Squarespace 6//v6//EN
BEGIN:VEVENT
UID:5b8e1974758d467f3783d522@squarespace.com
DTSTAMP:20190322T211553Z
DTSTART:20190123T213000Z
DTEND:20190123T230000Z
SUMMARY:Swimnastics in a Treehouse (24 January)
GEO:-37.85029;145.013936
LOCATION:The Beatt Treehouse Studio\, 24 Beatty Avenue\, Armadale VIC 3143\
 , Australia
END:VEVENT
END:VCALENDAR
