BEGIN:VCALENDAR
VERSION:2.0
PRODID:-//Squarespace Inc/Squarespace 6//v6//EN
BEGIN:VEVENT
UID:5b8dedc44d7a9cd1f8fa01c9@squarespace.com
DTSTAMP:20181210T033638Z
DTSTART:20180923T230000Z
DTEND:20180924T003000Z
SUMMARY:Swimnastics in a Treehouse (24 September)
GEO:-37.85029;145.013936
LOCATION:The Beatt Treehouse Studio\, 24 Beatty Avenue\, Armadale VIC 3143\
 , Australia
END:VEVENT
END:VCALENDAR
