BEGIN:VCALENDAR
VERSION:2.0
PRODID:-//Squarespace Inc/Squarespace 6//v6//EN
BEGIN:VEVENT
UID:5cabc3b1fa0d607bf347df03@squarespace.com
DTSTAMP:20190408T220736Z
DTSTART:20190511T010000Z
DTEND:20190511T020000Z
SUMMARY:swimnastics sessions (saturday 11th may)
GEO:-37.823176;145.046538
LOCATION:crossfit hawthorn east\, 9 Montrose St\, Hawthorn East VIC 3123\, 
 Hawthorn East\, Aust
END:VEVENT
END:VCALENDAR
