BEGIN:VCALENDAR
VERSION:2.0
PRODID:-//Squarespace Inc/Squarespace 6//v6//EN
BEGIN:VEVENT
UID:5d59de714809950001580ccd@squarespace.com
DTSTAMP:20191007T194956Z
DTSTART:20191013T020000Z
DTEND:20191013T030000Z
SUMMARY:swimnastics sessions (sunday 13th October)
GEO:-37.823176;145.046538
LOCATION:crossfit hawthorn east\, 9 Montrose St\, Hawthorn East VIC 3123\, 
 Hawthorn East\, Aust
END:VEVENT
END:VCALENDAR
