BEGIN:VCALENDAR
VERSION:2.0
PRODID:-//Squarespace Inc/Squarespace 6//v6//EN
BEGIN:VEVENT
UID:5ce1f9b37c744f0001928cd4@squarespace.com
DTSTAMP:20190520T005239Z
DTSTART:20190713T010000Z
DTEND:20190713T020000Z
SUMMARY:swimnastics sessions (saturday 13th July)
GEO:-37.823176;145.046538
LOCATION:crossfit hawthorn east\, 9 Montrose St\, Hawthorn East VIC 3123\, 
 Hawthorn East\, Aust
END:VEVENT
END:VCALENDAR
