BEGIN:VCALENDAR
VERSION:2.0
PRODID:-//Squarespace Inc/Squarespace 6//v6//EN
BEGIN:VEVENT
UID:5d59e559bb302e000163686d@squarespace.com
DTSTAMP:20191219T215130Z
DTSTART:20191214T000000Z
DTEND:20191214T010000Z
SUMMARY:swimnastics sessions (saturday 14th December)
GEO:-37.823176;145.046538
LOCATION:crossfit hawthorn east\, 9 Montrose St\, Hawthorn East VIC 3123\, 
 Hawthorn East\, Aust
END:VEVENT
END:VCALENDAR
